BEGIN:VCALENDAR
VERSION:2.0
PRODID:-//Library Market//iCal Export//EN
BEGIN:VEVENT
SUMMARY:Volunteer Appreciation Coffee Hour
UID:6466
DTSTAMP:20260420T235700Z
DTSTART:20260424T170000Z
DTEND:20260424T190000Z
LOCATION:417 Sycamore Street, Clarkston, WA 99403, United States
ROOM: Community Room
DESCRIPTION:Join us for a cozy morning of gratitude as we celebrate the in
 credible volunteers who support our library. Drop in for coffee, coffeeca
 ke, and good conversation as we say thank you for the time, energy, and ca
 re you bring to our community. Whether you volunteer regularly or have he
 lped out in the past, we’d love to spend time appreciating you!
URL:https://www.asotincountylibrary.org/event/volunteer-appreciation-coffe
 e-hour-6466
END:VEVENT
END:VCALENDAR
