BEGIN:VCALENDAR
VERSION:2.0
PRODID:-//Library Market//iCal Export//EN
BEGIN:VEVENT
SUMMARY:On Courage, Turmoil, and the Transformative Power of Love
UID:6535
DTSTAMP:20260426T004000Z
DTSTART:20260507T230000Z
DTEND:20260508T000000Z
LOCATION:
DESCRIPTION:Join us for an exciting conversation with internationally accl
 aimed author Marjan Kamali as we delve into the timeless wonder of her New
  York Times bestselling novel, The Lion Women of Tehran. Brought to you i
 n partnership with Library Speakers Consortium. 
URL:https://www.asotincountylibrary.org/event/courage-turmoil-and-transfor
 mative-power-love-6535
END:VEVENT
END:VCALENDAR
