BEGIN:VCALENDAR
VERSION:2.0
PRODID:-//Library Market//iCal Export//EN
BEGIN:VEVENT
SUMMARY:How to Robot-Proof Your Kids (and Yourself)
UID:6536
DTSTAMP:20260426T004000Z
DTSTART:20260512T180000Z
DTEND:20260512T190000Z
LOCATION:
DESCRIPTION:Join us for a timely conversation on AI, humanity, and the nex
 t steps towards building a better future with self-proclaimed “mad scien
 tist” Dr. Vivienne Ming as we discuss her new book, Robot-Proof: When Ma
 chines Have All the Answers, Build Better People. Brought to you in partn
 ership with Library Speakers Consortium. 
URL:https://www.asotincountylibrary.org/event/how-robot-proof-your-kids-an
 d-yourself-6536
END:VEVENT
END:VCALENDAR
